{
 "currentVersion": 10.2,
 "serviceDescription": "",
 "mapName": "Layers",
 "description": "",
 "copyrightText": "",
 "supportsDynamicLayers": false,
 "layers": [
  {
   "id": 0,
   "name": "数据注记",
   "parentLayerId": -1,
   "defaultVisibility": true,
   "subLayerIds": [
    1,
    2,
    3,
    4,
    5,
    6,
    7,
    8
   ],
   "minScale": 0,
   "maxScale": 0
  },
  {
   "id": 1,
   "name": "省会注记",
   "parentLayerId": 0,
   "defaultVisibility": true,
   "subLayerIds": null,
   "minScale": 0,
   "maxScale": 0
  },
  {
   "id": 2,
   "name": "地市注记",
   "parentLayerId": 0,
   "defaultVisibility": true,
   "subLayerIds": null,
   "minScale": 0,
   "maxScale": 0
  },
  {
   "id": 3,
   "name": "县注记",
   "parentLayerId": 0,
   "defaultVisibility": true,
   "subLayerIds": null,
   "minScale": 250000,
   "maxScale": 0
  },
  {
   "id": 4,
   "name": "乡镇注记",
   "parentLayerId": 0,
   "defaultVisibility": true,
   "subLayerIds": null,
   "minScale": 150000,
   "maxScale": 0
  },
  {
   "id": 5,
   "name": "村庄注记",
   "parentLayerId": 0,
   "defaultVisibility": true,
   "subLayerIds": null,
   "minScale": 100000,
   "maxScale": 0
  },
  {
   "id": 6,
   "name": "黄河小清河_label",
   "parentLayerId": 0,
   "defaultVisibility": true,
   "subLayerIds": null,
   "minScale": 0,
   "maxScale": 500000
  },
  {
   "id": 7,
   "name": "小清河流域主干水系_label",
   "parentLayerId": 0,
   "defaultVisibility": true,
   "subLayerIds": null,
   "minScale": 0,
   "maxScale": 500000
  },
  {
   "id": 8,
   "name": "支脉流域主干水系_label",
   "parentLayerId": 0,
   "defaultVisibility": true,
   "subLayerIds": null,
   "minScale": 0,
   "maxScale": 500000
  },
  {
   "id": 9,
   "name": "点状要素",
   "parentLayerId": -1,
   "defaultVisibility": true,
   "subLayerIds": [
    10
   ],
   "minScale": 0,
   "maxScale": 0
  },
  {
   "id": 10,
   "name": "BIM泵站",
   "parentLayerId": 9,
   "defaultVisibility": true,
   "subLayerIds": null,
   "minScale": 500000,
   "maxScale": 0
  },
  {
   "id": 11,
   "name": "线状要素",
   "parentLayerId": -1,
   "defaultVisibility": true,
   "subLayerIds": [
    12,
    13,
    14,
    15,
    16,
    17,
    18,
    19,
    20,
    21,
    22,
    23,
    24
   ],
   "minScale": 0,
   "maxScale": 0
  },
  {
   "id": 12,
   "name": "小清河9个水库",
   "parentLayerId": 11,
   "defaultVisibility": true,
   "subLayerIds": null,
   "minScale": 1000000,
   "maxScale": 0
  },
  {
   "id": 13,
   "name": "小清河流域水库小型",
   "parentLayerId": 11,
   "defaultVisibility": true,
   "subLayerIds": null,
   "minScale": 60000,
   "maxScale": 0
  },
  {
   "id": 14,
   "name": "小清河_线",
   "parentLayerId": 11,
   "defaultVisibility": true,
   "subLayerIds": null,
   "minScale": 0,
   "maxScale": 0
  },
  {
   "id": 15,
   "name": "支脉河",
   "parentLayerId": 11,
   "defaultVisibility": true,
   "subLayerIds": null,
   "minScale": 0,
   "maxScale": 0
  },
  {
   "id": 16,
   "name": "支脉河流域水系_一级",
   "parentLayerId": 11,
   "defaultVisibility": true,
   "subLayerIds": null,
   "minScale": 0,
   "maxScale": 500000
  },
  {
   "id": 17,
   "name": "支脉河流域水系_二级",
   "parentLayerId": 11,
   "defaultVisibility": true,
   "subLayerIds": null,
   "minScale": 250000,
   "maxScale": 100000
  },
  {
   "id": 18,
   "name": "支脉河流域水系_三级",
   "parentLayerId": 11,
   "defaultVisibility": true,
   "subLayerIds": null,
   "minScale": 80000,
   "maxScale": 0
  },
  {
   "id": 19,
   "name": "小清河流域边界线",
   "parentLayerId": 11,
   "defaultVisibility": true,
   "subLayerIds": null,
   "minScale": 0,
   "maxScale": 0
  },
  {
   "id": 20,
   "name": "小清河流域主干河流",
   "parentLayerId": 11,
   "defaultVisibility": true,
   "subLayerIds": null,
   "minScale": 0,
   "maxScale": 0
  },
  {
   "id": 21,
   "name": "小清河流域次干河流",
   "parentLayerId": 11,
   "defaultVisibility": true,
   "subLayerIds": null,
   "minScale": 0,
   "maxScale": 250000
  },
  {
   "id": 22,
   "name": "小清河流域水系_三级",
   "parentLayerId": 11,
   "defaultVisibility": true,
   "subLayerIds": null,
   "minScale": 200000,
   "maxScale": 0
  },
  {
   "id": 23,
   "name": "黄河",
   "parentLayerId": 11,
   "defaultVisibility": true,
   "subLayerIds": null,
   "minScale": 0,
   "maxScale": 0
  },
  {
   "id": 24,
   "name": "山东省边界线",
   "parentLayerId": 11,
   "defaultVisibility": true,
   "subLayerIds": null,
   "minScale": 0,
   "maxScale": 0
  },
  {
   "id": 25,
   "name": "面状要素",
   "parentLayerId": -1,
   "defaultVisibility": true,
   "subLayerIds": [
    26,
    27
   ],
   "minScale": 0,
   "maxScale": 0
  },
  {
   "id": 26,
   "name": "滞洪区",
   "parentLayerId": 25,
   "defaultVisibility": true,
   "subLayerIds": null,
   "minScale": 250000,
   "maxScale": 0
  },
  {
   "id": 27,
   "name": "小清河",
   "parentLayerId": 25,
   "defaultVisibility": true,
   "subLayerIds": null,
   "minScale": 0,
   "maxScale": 0
  },
  {
   "id": 28,
   "name": "image",
   "parentLayerId": -1,
   "defaultVisibility": true,
   "subLayerIds": [
    29,
    30,
    31
   ],
   "minScale": 0,
   "maxScale": 0
  },
  {
   "id": 31,
   "name": "ETM_LEVEL_1_14",
   "parentLayerId": 28,
   "defaultVisibility": true,
   "subLayerIds": [
    32,
    33,
    34
   ],
   "minScale": 0,
   "maxScale": 0
  }
 ],
 "tables": [],
 "spatialReference": {
  "wkt": "GEOGCS[\"CGCS_2000\",DATUM[\"D_2000\",SPHEROID[\"S_2000\",6378137.0,298.2572221010041]],PRIMEM[\"Greenwich\",0.0],UNIT[\"Degree\",0.0174532925199433]]"
 },
 "singleFusedMapCache": true,
 "tileInfo": {
  "rows": 256,
  "cols": 256,
  "dpi": 96,
  "format": "Mixed",
  "compressionQuality": 75,
  "origin": {
   "x": -400,
   "y": 399.9999999999998
  },
  "spatialReference": {
   "wkt": "GEOGCS[\"CGCS_2000\",DATUM[\"D_2000\",SPHEROID[\"S_2000\",6378137.0,298.2572221010041]],PRIMEM[\"Greenwich\",0.0],UNIT[\"Degree\",0.0174532925199433]]"
  },
  "lods": [
   {
    "level": 0,
    "resolution": 0.0017845957543727103,
    "scale": 750000
   },
   {
    "level": 1,
    "resolution": 0.00118973050291514,
    "scale": 500000
   },
   {
    "level": 2,
    "resolution": 5.9486525145757E-4,
    "scale": 250000
   },
   {
    "level": 3,
    "resolution": 4.7589220116605604E-4,
    "scale": 200000
   },
   {
    "level": 4,
    "resolution": 3.5691915087454206E-4,
    "scale": 150000
   },
   {
    "level": 5,
    "resolution": 2.3794610058302802E-4,
    "scale": 100000
   },
   {
    "level": 6,
    "resolution": 1.9035688046642243E-4,
    "scale": 80000
   },
   {
    "level": 7,
    "resolution": 1.4276766034981682E-4,
    "scale": 60000
   },
   {
    "level": 8,
    "resolution": 1.1897305029151401E-4,
    "scale": 50000
   },
   {
    "level": 9,
    "resolution": 9.517844023321122E-5,
    "scale": 40000
   },
   {
    "level": 10,
    "resolution": 5.9486525145757005E-5,
    "scale": 25000
   },
   {
    "level": 11,
    "resolution": 2.3794610058302804E-5,
    "scale": 10000
   },
   {
    "level": 12,
    "resolution": 2.1415149052472524E-5,
    "scale": 9000
   }
  ]
 },
 "initialExtent": {
  "xmin": 116.58515270423372,
  "ymin": 36.67030706462643,
  "xmax": 119.23170820796845,
  "ymax": 37.72678775121507,
  "spatialReference": {
   "cs": "gcs",
   "wkt": "GEOGCS[\"CGCS_2000\",DATUM[\"D_2000\",SPHEROID[\"S_2000\",6378137.0,298.2572221010041]],PRIMEM[\"Greenwich\",0.0],UNIT[\"Degree\",0.0174532925199433]]"
  }
 },
 "fullExtent": {
  "xmin": 114.79272007347527,
  "ymin": 34.37834992279045,
  "xmax": 122.70406002568359,
  "ymax": 38.23502357909668,
  "spatialReference": {
   "cs": "gcs",
   "wkt": "GEOGCS[\"CGCS_2000\",DATUM[\"D_2000\",SPHEROID[\"S_2000\",6378137.0,298.2572221010041]],PRIMEM[\"Greenwich\",0.0],UNIT[\"Degree\",0.0174532925199433]]"
  }
 },
 "minScale": 750000,
 "maxScale": 9000,
 "units": "esriDecimalDegrees",
 "supportedImageFormatTypes": "PNG32,PNG24,PNG,JPG,DIB,TIFF,EMF,PS,PDF,GIF,SVG,SVGZ,BMP",
 "documentInfo": {
  "Title": "",
  "Author": "",
  "Comments": "",
  "Subject": "",
  "Category": "",
  "AntialiasingMode": "None",
  "TextAntialiasingMode": "Force",
  "Keywords": ""
 },
 "capabilities": "Map,Query,Data",
 "supportedQueryFormats": "JSON, AMF",
 "exportTilesAllowed": false,
 "maxRecordCount": 1000,
 "maxImageHeight": 4096,
 "maxImageWidth": 4096,
 "supportedExtensions": ""
}
