View In:
ArcGIS JavaScript
ArcGIS.com Map
Google Earth
ArcMap
ArcGIS Explorer
View Footprint In:
ArcGIS.com Map
Service Description:
Map Name: Layers
Legend
All Layers and Tables
Layers:
Description:
Copyright Text:
Spatial Reference:
4326
(4326)
Single Fused Map Cache: true
Tile Info:
- Height: 256
- Width: 256
- DPI: 96
-
Levels of Detail: 20
-
Level ID: 0
[ Start Tile, End Tile ]
- Resolution: 1.4062500262315798
- Scale: 5.909951971416687E8
-
Level ID: 1
[ Start Tile, End Tile ]
- Resolution: 0.7031250131157897
- Scale: 2.954975985708343E8
-
Level ID: 2
[ Start Tile, End Tile ]
- Resolution: 0.351562506557895
- Scale: 1.477487992854172E8
-
Level ID: 3
[ Start Tile, End Tile ]
- Resolution: 0.17578125327894747
- Scale: 7.387439964270858E7
-
Level ID: 4
[ Start Tile, End Tile ]
- Resolution: 0.08789062663947374
- Scale: 3.693719982135429E7
-
Level ID: 5
[ Start Tile, End Tile ]
- Resolution: 0.043945313319736876
- Scale: 1.846859991067715E7
-
Level ID: 6
[ Start Tile, End Tile ]
- Resolution: 0.021972656659868434
- Scale: 9234299.955338573
-
Level ID: 7
[ Start Tile, End Tile ]
- Resolution: 0.010986328329934214
- Scale: 4617149.977669286
-
Level ID: 8
[ Start Tile, End Tile ]
- Resolution: 0.005493164164967107
- Scale: 2308574.988834643
-
Level ID: 9
[ Start Tile, End Tile ]
- Resolution: 0.002746582082483555
- Scale: 1154287.494417322
-
Level ID: 10
[ Start Tile, End Tile ]
- Resolution: 0.0013732910412417771
- Scale: 577143.7472086608
-
Level ID: 11
[ Start Tile, End Tile ]
- Resolution: 6.866455206208886E-4
- Scale: 288571.8736043304
-
Level ID: 12
[ Start Tile, End Tile ]
- Resolution: 3.433227603104443E-4
- Scale: 144285.9368021652
-
Level ID: 13
[ Start Tile, End Tile ]
- Resolution: 1.7166138015522217E-4
- Scale: 72142.96840108262
-
Level ID: 14
[ Start Tile, End Tile ]
- Resolution: 8.583069007761109E-5
- Scale: 36071.48420054131
-
Level ID: 15
[ Start Tile, End Tile ]
- Resolution: 4.2915345038805536E-5
- Scale: 18035.74210027065
-
Level ID: 16
[ Start Tile, End Tile ]
- Resolution: 2.1457672519402768E-5
- Scale: 9017.871050135325
-
Level ID: 17
[ Start Tile, End Tile ]
- Resolution: 1.0728836259701384E-5
- Scale: 4508.935525067663
-
Level ID: 18
[ Start Tile, End Tile ]
- Resolution: 5.364418129850689E-6
- Scale: 2254.46776253383
-
Level ID: 19
[ Start Tile, End Tile ]
- Resolution: 2.682209064925356E-6
- Scale: 1127.23388126692
- Format: PNG
- Compression Quality: 0.0
- Origin: X: -180.0
Y: 90.0
- Spatial Reference: 4326
(4326)
Initial Extent:
XMin: 117.79521051472669
YMin: 36.943139722393475
XMax: 118.22381092840187
YMax: 37.11118915593024
Spatial Reference: 4326
(4326)
Full Extent:
XMin: 117.7862965816019
YMin: 36.849519620050025
XMax: 118.22447658939818
YMax: 37.11376557895007
Spatial Reference: 4326
(4326)
Units: esriDecimalDegrees
Supported Image Format Types: PNG32,PNG24,PNG,JPG,DIB,TIFF,EMF,PS,PDF,GIF,SVG,SVGZ,BMP
Document Info:
Title:
Author:
Comments:
Subject:
Category:
Keywords:
AntialiasingMode: None
TextAntialiasingMode: Force
Supports Dynamic Layers: false
MaxRecordCount: 1000
MaxImageHeight: 4096
MaxImageWidth: 4096
Supported Query Formats: JSON, AMF
Min Scale: 5.909951971416687E8
Max Scale: 1127.23388126692
Child Resources:
Info
Supported Operations:
Export Map
Identify
Find
Return Updates